BEGIN:VCALENDAR
VERSION:2.0
PRODID:-//eventon.com NONSGML v1.0//EN
CALSCALE:GREGORIAN
METHOD:PUBLISH
BEGIN:VEVENT
UID:69e4d249ecf67
DTSTAMP:20260419T130201Z
DTSTART:20241022T193000Z
DTEND:20241022T235900Z
LOCATION:The Tower Theater
SUMMARY:BEND\,  OR - TOWER THEATRE - OCTOBER 22
DESCRIPTION:GET TICKETS NOW! WHAT: The Bend Premiere of &#8220;Calm Beneath
  Castles&#8221; WHEN: Doors open 6:30\,  Showtime 7:30 WHERE: Tower Theatre
  TOYOTA PRESENTS  A NEW SKI FILM FROM MATCHSTICK PRODUCTIONS Calm Beneath 
 Castles (2024) Calm Beneath Castles is an awe-inspiring ski movie that delv
 es into the heart\,  soul\,  and mind of[..]\nhttps://matchstickpro.com/eve
 nts/bend-or-tower-theatre-october-22/
URL:https://matchstickpro.com/events/bend-or-tower-theatre-october-22/
END:VEVENT
END:VCALENDAR