BEGIN:VCALENDAR
VERSION:2.0
PRODID:-//eventon.com NONSGML v1.0//EN
CALSCALE:GREGORIAN
METHOD:PUBLISH
BEGIN:VEVENT
UID:69ec1d4c75da1
DTSTAMP:20260425T014756Z
DTSTART:20241107T180000Z
DTEND:20241107T235900Z
LOCATION:
SUMMARY:Denver\,  CO - Woods Boss Brewing - November 7
DESCRIPTION:GET TICKETS NOW! WHAT: Showing Ski Movie in the Taproom WHEN: D
 oors open 2:00pm\,  Showtime 6:00 WHERE: Woods Boss Brewing Co TOYOTA PRESE
 NTS  A NEW SKI FILM FROM MATCHSTICK PRODUCTIONS Calm Beneath Castles (2024
 ) Calm Beneath Castles is an awe-inspiring ski movie that delves into the h
 eart\,  soul\,  and mind[..]\nhttps://matchstickpro.com/events/denver-co-wo
 ods-boss-brewing-november-7/
URL:https://matchstickpro.com/events/denver-co-woods-boss-brewing-november-7/
END:VEVENT
END:VCALENDAR