BEGIN:VCALENDAR
VERSION:2.0
PRODID:-//eventon.com NONSGML v1.0//EN
CALSCALE:GREGORIAN
METHOD:PUBLISH
BEGIN:VEVENT
UID:69e6393842591
DTSTAMP:20260420T143328Z
DTSTART:20241130T180000Z
DTEND:20241130T235900Z
LOCATION:
SUMMARY:Snowshoe\,  WV - "Share the Stoke" - November 30
DESCRIPTION:GET TICKETS NOW! WHAT: 4th Annual &#8220;Share the Stoke&#8221;
  2024 Ski Film Premiere with proceeds benefitting Challenged Athletes of We
 st Virginia WHEN: Doors open 6:00\,  Showtime 7:00 WHERE: Corduroy Inn &#82
 11; Lodge 4th floor 5811 Snowshoe Drive Snowshoe\,  WV 26209 TOYOTA PRESENT
 S  A NEW SKI FILM FROM MATCHSTICK PRODUCTIONS Calm[..]\nhttps://matchstick
 pro.com/events/snowshoe-wv-share-the-stoke-november-30/
URL:https://matchstickpro.com/events/snowshoe-wv-share-the-stoke-november-30/
END:VEVENT
END:VCALENDAR