BEGIN:VCALENDAR
VERSION:2.0
PRODID:-//eventon.com NONSGML v1.0//EN
CALSCALE:GREGORIAN
METHOD:PUBLISH
BEGIN:VEVENT
UID:69e51206ed14f
DTSTAMP:20260419T173358Z
DTSTART:20251205T223000Z
DTEND:20251206T065900Z
LOCATION:Taos Center for the Arts 133 Paseo Del Pueblo Norte\,  Taos\,  NM 87571
SUMMARY:TAOS\,  NM - TAOS CENTER FOR THE ARTS
DESCRIPTION:BUY TICKETS NOW! WHAT: Toyota Presents\,  &#8220;After the Snow
 fall&#8221; &#8211; Taos\,  New Mexico WHERE: Taos Center for the Arts WHEN
 : December 5th\,  2025 Show #1: Doors open: 3:30\,  Showtime 4:00 Show #2: 
 Doors open: 6:30\,  Showtime 7:00 TOYOTA PRESENTS  A NEW SKI FILM FROM MAT
 CHSTICK PRODUCTIONS After the Snowfall (2025)[..]\nhttps://matchstickpro.co
 m/events/taos-new-mexico-taos-center-for-the-arts/
URL:https://matchstickpro.com/events/taos-new-mexico-taos-center-for-the-arts/
END:VEVENT
END:VCALENDAR