BEGIN:VCALENDAR
VERSION:2.0
PRODID:-//eventon.com NONSGML v1.0//EN
CALSCALE:GREGORIAN
METHOD:PUBLISH
BEGIN:VEVENT
UID:69e907cf521a5
DTSTAMP:20260422T173927Z
DTSTART:20251213T180000Z
DTEND:20251213T235900Z
LOCATION:Locomotion Plaza 301 N Virginia St\,  Reno\,  NV 89501
SUMMARY:RENO\,  NV - LOCOMOTION PLAZA
DESCRIPTION:TICKETS LIVE SOON! WHAT: Toyota Presents\,  &#8220;After the Sn
 owfall&#8221; &#8211; Reno\,  Nevada WHERE: Locomotion Plaza WHEN: December
  13th\,  2025 Show #1: Doors open: 6:00\,  Showtime: 7:30 TOYOTA PRESENTS 
  A NEW SKI FILM FROM MATCHSTICK PRODUCTIONS After the Snowfall (2025) “Af
 ter The Snowfall” is a celebration of skiing in its purest[..]\nhttps://m
 atchstickpro.com/events/reno-nv-locomotion-plaza/
URL:https://matchstickpro.com/events/reno-nv-locomotion-plaza/
END:VEVENT
END:VCALENDAR